BEGIN:VCALENDAR
VERSION:2.0
PRODID:-//Lake Creek Service Unit - ECPv6.15.20//NONSGML v1.0//EN
CALSCALE:GREGORIAN
METHOD:PUBLISH
X-ORIGINAL-URL:https://lakecreekgirlscouts.org
X-WR-CALDESC:Events for Lake Creek Service Unit
REFRESH-INTERVAL;VALUE=DURATION:PT1H
X-Robots-Tag:noindex
X-PUBLISHED-TTL:PT1H
BEGIN:VTIMEZONE
TZID:America/Chicago
BEGIN:DAYLIGHT
TZOFFSETFROM:-0600
TZOFFSETTO:-0500
TZNAME:CDT
DTSTART:20250309T080000
END:DAYLIGHT
BEGIN:STANDARD
TZOFFSETFROM:-0500
TZOFFSETTO:-0600
TZNAME:CST
DTSTART:20251102T070000
END:STANDARD
BEGIN:DAYLIGHT
TZOFFSETFROM:-0600
TZOFFSETTO:-0500
TZNAME:CDT
DTSTART:20260308T080000
END:DAYLIGHT
BEGIN:STANDARD
TZOFFSETFROM:-0500
TZOFFSETTO:-0600
TZNAME:CST
DTSTART:20261101T070000
END:STANDARD
BEGIN:DAYLIGHT
TZOFFSETFROM:-0600
TZOFFSETTO:-0500
TZNAME:CDT
DTSTART:20270314T080000
END:DAYLIGHT
BEGIN:STANDARD
TZOFFSETFROM:-0500
TZOFFSETTO:-0600
TZNAME:CST
DTSTART:20271107T070000
END:STANDARD
END:VTIMEZONE
BEGIN:VEVENT
DTSTART;TZID=America/Chicago:20260608T090000
DTEND;TZID=America/Chicago:20260612T120000
DTSTAMP:20260423T125950
CREATED:20260331T154136Z
LAST-MODIFIED:20260331T154140Z
UID:10000094-1780909200-1781265600@lakecreekgirlscouts.org
SUMMARY:GIRL SCOUT SUMMER CELEBRATION 2026 
DESCRIPTION:Come learn valuable skills\, explore the great outdoors\, and make lifelong memories with us.  \n\n\n\nTheme: What GS Cookie Are You?  \n\n\n\nMonday & Tuesday\, June 8th and June 9th: Stations of Girl Scout Songs and Skits/Sports and Arts-n-Crafts plus Group Time.  \n\n\n\nWednesday\, June 10th: Celebrate Girl Scouts at Home — Do an Act of Kindness in Your Neighborhood  \n\n\n\nThursday\, June 11th: Service Project Day! Service Project Stations  \n\n\n\nFriday\, June 12th: Field Day Stations  \n\n\n\nRegister Here: https://forms.gle/1pnsQ9xLc5RB7ScCA \n\n\n\nCost $65 per Girl Scout
URL:https://lakecreekgirlscouts.org/event/girl-scout-summer-celebration-2026/
ATTACH;FMTTYPE=image/png:https://lakecreekgirlscouts.org/wp-content/uploads/2026/03/Springwoods-Park.png
END:VEVENT
END:VCALENDAR