BEGIN:VCALENDAR
VERSION:2.0
PRODID:-//Lake Creek Service Unit - ECPv6.15.20//NONSGML v1.0//EN
CALSCALE:GREGORIAN
METHOD:PUBLISH
X-ORIGINAL-URL:https://lakecreekgirlscouts.org
X-WR-CALDESC:Events for Lake Creek Service Unit
REFRESH-INTERVAL;VALUE=DURATION:PT1H
X-Robots-Tag:noindex
X-PUBLISHED-TTL:PT1H
BEGIN:VTIMEZONE
TZID:America/Chicago
BEGIN:DAYLIGHT
TZOFFSETFROM:-0600
TZOFFSETTO:-0500
TZNAME:CDT
DTSTART:20250309T080000
END:DAYLIGHT
BEGIN:STANDARD
TZOFFSETFROM:-0500
TZOFFSETTO:-0600
TZNAME:CST
DTSTART:20251102T070000
END:STANDARD
BEGIN:DAYLIGHT
TZOFFSETFROM:-0600
TZOFFSETTO:-0500
TZNAME:CDT
DTSTART:20260308T080000
END:DAYLIGHT
BEGIN:STANDARD
TZOFFSETFROM:-0500
TZOFFSETTO:-0600
TZNAME:CST
DTSTART:20261101T070000
END:STANDARD
BEGIN:DAYLIGHT
TZOFFSETFROM:-0600
TZOFFSETTO:-0500
TZNAME:CDT
DTSTART:20270314T080000
END:DAYLIGHT
BEGIN:STANDARD
TZOFFSETFROM:-0500
TZOFFSETTO:-0600
TZNAME:CST
DTSTART:20271107T070000
END:STANDARD
END:VTIMEZONE
BEGIN:VEVENT
DTSTART;TZID=America/Chicago:20260114T000000
DTEND;TZID=America/Chicago:20260301T235959
DTSTAMP:20260423T130858
CREATED:20250806T014505Z
LAST-MODIFIED:20250806T014508Z
UID:10000083-1768348800-1772409599@lakecreekgirlscouts.org
SUMMARY:Cookies 2026: Cookie Sale
DESCRIPTION:
URL:https://lakecreekgirlscouts.org/event/cookies-2026-cookie-sale/
CATEGORIES:Cookie Season
ATTACH;FMTTYPE=image/jpeg:https://lakecreekgirlscouts.org/wp-content/uploads/2025/08/54679269906_fdf172f95c_w.jpg
END:VEVENT
BEGIN:VEVENT
DTSTART;TZID=America/Chicago:20260213T000000
DTEND;TZID=America/Chicago:20260213T235959
DTSTAMP:20260423T130858
CREATED:20250806T014643Z
LAST-MODIFIED:20250806T014648Z
UID:10000085-1770940800-1771027199@lakecreekgirlscouts.org
SUMMARY:Cookies 2026:  ACH Debit #2
DESCRIPTION:
URL:https://lakecreekgirlscouts.org/event/cookies-2026-ach-debit-2/
CATEGORIES:Cookie Season
ATTACH;FMTTYPE=image/jpeg:https://lakecreekgirlscouts.org/wp-content/uploads/2025/08/54679269906_fdf172f95c_w.jpg
END:VEVENT
BEGIN:VEVENT
DTSTART;TZID=America/Chicago:20260222T150000
DTEND;TZID=America/Chicago:20260222T170000
DTSTAMP:20260423T130858
CREATED:20260109T154146Z
LAST-MODIFIED:20260122T003929Z
UID:10000092-1771772400-1771779600@lakecreekgirlscouts.org
SUMMARY:LCSU 100 Years of World Thinking Day Celebration
DESCRIPTION:Join Lake Creek Service Unit troops to celebrate 100 years of friendship!  \n\n\n\nEach troop will select a country\, research Girl Scouts and Girl Guides in that country\, and friendship traditions in that country\, and bring friendship bracelets that represent their country to swap with other troops.  \n\n\n\nThemed snacks are welcome\, but not expected or required. Consider bringing a pre-packaged snack like ketchup-flavored chips for Canada or Vegemite for Australia.  \n\n\n\nSign Up Sheet Available Now! https://forms.gle/koCpJMzvCpLTQVLW8
URL:https://lakecreekgirlscouts.org/event/lcsu-100-years-of-world-thinking-day-celebration/
CATEGORIES:Service Unit Events
ATTACH;FMTTYPE=image/png:https://lakecreekgirlscouts.org/wp-content/uploads/2026/01/WTD-100-Patch.png
END:VEVENT
BEGIN:VEVENT
DTSTART;TZID=America/Chicago:20260224T190000
DTEND;TZID=America/Chicago:20260224T200000
DTSTAMP:20260423T130858
CREATED:20250806T003543Z
LAST-MODIFIED:20260109T175055Z
UID:10000068-1771959600-1771963200@lakecreekgirlscouts.org
SUMMARY:LCSU Monthly Volunteer Meeting
DESCRIPTION:Register with Zoom \n\n\n\nAll adult volunteers in the Lake Creek Service Unit are welcome to join us to plan and work. \n\n\n\nNew! This year\, troops with Cadette\, Ambassador\, and Senior Girl Scouts are invited to select one or more members of their troop to join us in learning about the work of supporting an organization like Girl Scouts.
URL:https://lakecreekgirlscouts.org/event/lcsu-monthly-volunteer-meeting-12/
ATTACH;FMTTYPE=image/png:https://lakecreekgirlscouts.org/wp-content/uploads/2024/09/Volunteers-Wanted-1.png
END:VEVENT
BEGIN:VEVENT
DTSTART;TZID=America/Chicago:20260227T183000
DTEND;TZID=America/Chicago:20260227T213000
DTSTAMP:20260423T130858
CREATED:20260128T231152Z
LAST-MODIFIED:20260128T231154Z
UID:10000093-1772217000-1772227800@lakecreekgirlscouts.org
SUMMARY:Troop 427 Best Buddy Golden Ball
DESCRIPTION:Calling all Girl Scouts and their Best Buddy! (Parents or Guardians)  \n\n\n\nGS Troop 427 is hosting a “Best Buddy Golden Ball” as a fundraiser for our Destination trip. \n\n\n\nFor the price of going to the movies\, you can take your Girl Scout(s) to a spectacular dance and create wonderful memories with them\, plus the joy of supporting a community service silver award through a pet shelter donation drive. \n\n\n\nTroops that attend together can reserve tables to sit together and compete in our BYO centerpiece competition for the coveted Golden Ball Trophy. \n\n\n\nNo matter how you’re attending\, it will be a night full of magic\, fun\, dancing\, and lasting memories for all. \n\n\n\nActivities will include: Dancing (with free lessons at the beginning!)\, drinks are included\, craft table\, photo booth\, swap wall\, door prizes\, and more fun for all ages! \n\n\n\nDon’t worry about dinner\, concessions like pizza\, popcorn\, snow cones\, etc will be available for purchase throughout the event.  \n\n\n\n[Optional Pet Shelter Drive items to bring for donation: pet toys and pet blankets.]  \n\n\n\nThis event can be a one-on-one with a parent and Girl Scout\, or you can bring the whole family! Just ensure you have a ticket for each attendee. (Adults do not need to be registered Girl Scouts to attend) \n\n\n\nNOTE: YOU MUST CHANGE THE 17% ZEFFY TIP IF YOU DO NOT WANT TO GIVE THEM THAT! (You can customize to $0 or any other amount) It does NOT go to Girl Scouts. \n\n\n\nWe can’t wait to see you all and how you shine! \n\n\n\nPlease share with your other Girl Scout Friends and Sisters. \n\n\n\n-Troop 427 \n\n\n\nQuestions? Email rockyclark@gmail.com.  \n\n\n\nTickets available now! https://www.zeffy.com/en-US/ticketing/best-buddy-golden-ball
URL:https://lakecreekgirlscouts.org/event/troop-427-best-buddy-golden-ball/
ATTACH;FMTTYPE=image/png:https://lakecreekgirlscouts.org/wp-content/uploads/2026/01/T427-Best-Buddy-Golden-Ball.png
END:VEVENT
END:VCALENDAR