BEGIN:VCALENDAR
VERSION:2.0
PRODID:-//Lake Creek Service Unit - ECPv6.15.20//NONSGML v1.0//EN
CALSCALE:GREGORIAN
METHOD:PUBLISH
X-ORIGINAL-URL:https://lakecreekgirlscouts.org
X-WR-CALDESC:Events for Lake Creek Service Unit
REFRESH-INTERVAL;VALUE=DURATION:PT1H
X-Robots-Tag:noindex
X-PUBLISHED-TTL:PT1H
BEGIN:VTIMEZONE
TZID:America/Chicago
BEGIN:DAYLIGHT
TZOFFSETFROM:-0600
TZOFFSETTO:-0500
TZNAME:CDT
DTSTART:20240310T080000
END:DAYLIGHT
BEGIN:STANDARD
TZOFFSETFROM:-0500
TZOFFSETTO:-0600
TZNAME:CST
DTSTART:20241103T070000
END:STANDARD
BEGIN:DAYLIGHT
TZOFFSETFROM:-0600
TZOFFSETTO:-0500
TZNAME:CDT
DTSTART:20250309T080000
END:DAYLIGHT
BEGIN:STANDARD
TZOFFSETFROM:-0500
TZOFFSETTO:-0600
TZNAME:CST
DTSTART:20251102T070000
END:STANDARD
BEGIN:DAYLIGHT
TZOFFSETFROM:-0600
TZOFFSETTO:-0500
TZNAME:CDT
DTSTART:20260308T080000
END:DAYLIGHT
BEGIN:STANDARD
TZOFFSETFROM:-0500
TZOFFSETTO:-0600
TZNAME:CST
DTSTART:20261101T070000
END:STANDARD
END:VTIMEZONE
BEGIN:VEVENT
DTSTART;TZID=America/Chicago:20250823T000000
DTEND;TZID=America/Chicago:20250823T235959
DTSTAMP:20260425T074919
CREATED:20250806T012908Z
LAST-MODIFIED:20250806T012911Z
UID:10000078-1755907200-1755993599@lakecreekgirlscouts.org
SUMMARY:GSCTX Product Program Rally
DESCRIPTION:Two sessions! 10 -11 am and 1-2 pm \n\n\n\nRegister Here: https://www.gsctx.org/en/sf-events-repository/2025/product-program-rally-session-1-8-23-25.html \n\n\n\nRegistration through GSCTX Required.  \n\n\n\nInformation from GSCTX website: Calling all Girl Scouts! Whether you are new to the movement or a seasoned member\, come learn about Product Programs two programs\, Fall Product and Cookies and why you should participate. This come and go rally will have activities to understand the 5 skills learned by participating in Product Program\, samples\, an exclusive viewing (and maybe a tasting) of the new cookie and so much more. Adults that attend will learn the benefit of both programs for their Girl Scouts and troop and easy steps to kick off the new Product Program season. \n\n\n\nLocation: Kodosky Service Center\, Austin \n\n\n\nSupervision level: This is NOT A DROP OFF EVENT. Adults are required to REGISTER and remain with their youth participants. Girl Scout volunteers bringing their troop must follow all Safety Activity Checkpoints. \n\n\n\nSpecial instructions: This is a come and go event. We will have samples of Fall Product and Cookies so please be allergy aware. \n\n\n\nRequired paperwork: Please complete the following sections of the Council Event Health and Permission Forms\, print\, and bring with you to the event: Section A \n\n\n\nSeveral days prior to the event\, you will receive a final confirmation email from our Girl Scout experience team with any additional information you need. If you do not receive this email\, please contact customercare@gsctx.org. Please make sure that @gsctx.org is on your approved senders list to prevent these emails from going to spam.
URL:https://lakecreekgirlscouts.org/event/gsctx-product-program-rally/
END:VEVENT
BEGIN:VEVENT
DTSTART;TZID=America/Chicago:20250826T190000
DTEND;TZID=America/Chicago:20250826T200000
DTSTAMP:20260425T074919
CREATED:20250804T184349Z
LAST-MODIFIED:20250804T184354Z
UID:10000067-1756234800-1756238400@lakecreekgirlscouts.org
SUMMARY:LCSU Monthly Volunteer Meeting
DESCRIPTION:All adult volunteers in the Lake Creek Service Unit are welcome to join us to plan and work. \n\n\n\nNew! This year\, troops with Cadette\, Ambassador\, and Senior Girl Scouts are invited to select one or more members of their troop to join us in learning about the work of supporting an organization like Girl Scouts.  \n\n\n\nWe meet in the Disciple Building in room D203/204. The closest parking lot to the Disciple Building is the small Limited Mobility Lot on the corner of Swallow Dr. and Anderson Mill. From that lot\, you should enter and go up the stairs to find the room. \n\n\n\nCampus map: https://bethany-umc.org/campus-parking-map/ 
URL:https://lakecreekgirlscouts.org/event/lcsu-monthly-volunteer-meeting-11/
ATTACH;FMTTYPE=image/png:https://lakecreekgirlscouts.org/wp-content/uploads/2024/09/Volunteers-Wanted-1.png
END:VEVENT
END:VCALENDAR