BEGIN:VCALENDAR
VERSION:2.0
PRODID:-//Lake Creek Service Unit - ECPv6.15.20//NONSGML v1.0//EN
CALSCALE:GREGORIAN
METHOD:PUBLISH
X-ORIGINAL-URL:https://lakecreekgirlscouts.org
X-WR-CALDESC:Events for Lake Creek Service Unit
REFRESH-INTERVAL;VALUE=DURATION:PT1H
X-Robots-Tag:noindex
X-PUBLISHED-TTL:PT1H
BEGIN:VTIMEZONE
TZID:America/Chicago
BEGIN:DAYLIGHT
TZOFFSETFROM:-0600
TZOFFSETTO:-0500
TZNAME:CDT
DTSTART:20240310T080000
END:DAYLIGHT
BEGIN:STANDARD
TZOFFSETFROM:-0500
TZOFFSETTO:-0600
TZNAME:CST
DTSTART:20241103T070000
END:STANDARD
BEGIN:DAYLIGHT
TZOFFSETFROM:-0600
TZOFFSETTO:-0500
TZNAME:CDT
DTSTART:20250309T080000
END:DAYLIGHT
BEGIN:STANDARD
TZOFFSETFROM:-0500
TZOFFSETTO:-0600
TZNAME:CST
DTSTART:20251102T070000
END:STANDARD
BEGIN:DAYLIGHT
TZOFFSETFROM:-0600
TZOFFSETTO:-0500
TZNAME:CDT
DTSTART:20260308T080000
END:DAYLIGHT
BEGIN:STANDARD
TZOFFSETFROM:-0500
TZOFFSETTO:-0600
TZNAME:CST
DTSTART:20261101T070000
END:STANDARD
END:VTIMEZONE
BEGIN:VEVENT
DTSTART;TZID=America/Chicago:20250520T200000
DTEND;TZID=America/Chicago:20250520T210000
DTSTAMP:20260425T115748
CREATED:20250509T165855Z
LAST-MODIFIED:20250509T165858Z
UID:10000062-1747771200-1747774800@lakecreekgirlscouts.org
SUMMARY:LCSU Volunteer Interest Meeting
DESCRIPTION:Join Sara Schulz and Randall Hoskins\, current Lake Creek Service Unit volunteers\, to learn more about how we serve Girl Scouts in our area.  \n\n\n\n \n\n\n\nhttps://austincc.zoom.us/j/83493081077?pwd=uzk3idDaeZKjqbZ1dPnioizgmro9ca.1 \n\n\n\nMeeting ID: 834 9308 1077Passcode: 419804
URL:https://lakecreekgirlscouts.org/event/lcsu-volunteer-interest-meeting/
END:VEVENT
BEGIN:VEVENT
DTSTART;TZID=America/Chicago:20250527T190000
DTEND;TZID=America/Chicago:20250527T210000
DTSTAMP:20260425T115748
CREATED:20250509T141214Z
LAST-MODIFIED:20250509T141216Z
UID:10000061-1748372400-1748379600@lakecreekgirlscouts.org
SUMMARY:LCSU Dart'em Up - Party & Awards Ceremony
DESCRIPTION:Dart’em Up – Service Unit Party & Awards Ceremony – Tuesday\, May 27th at 7:00 pm** \n\n\n\nCome join the Lake Creek Service Unit at Dart’em Up for a end of the school year party and awards ceremony.  \n\n\n\nThe cost for this event is $10 per girl. Each girl will get arena time\, an unlimited arcade card\, 2 slices of pizza\, and a drink. \n\n\n\nRegister your girl or troop here! https://forms.gle/fcsJLg3BtGDUkb2LA
URL:https://lakecreekgirlscouts.org/event/lcsu-dartem-up-party-awards-ceremony/
END:VEVENT
END:VCALENDAR