BEGIN:VCALENDAR
VERSION:2.0
PRODID:-//Lake Creek Service Unit - ECPv6.15.20//NONSGML v1.0//EN
CALSCALE:GREGORIAN
METHOD:PUBLISH
X-WR-CALNAME:Lake Creek Service Unit
X-ORIGINAL-URL:https://lakecreekgirlscouts.org
X-WR-CALDESC:Events for Lake Creek Service Unit
REFRESH-INTERVAL;VALUE=DURATION:PT1H
X-Robots-Tag:noindex
X-PUBLISHED-TTL:PT1H
BEGIN:VTIMEZONE
TZID:America/Chicago
BEGIN:DAYLIGHT
TZOFFSETFROM:-0600
TZOFFSETTO:-0500
TZNAME:CDT
DTSTART:20230312T080000
END:DAYLIGHT
BEGIN:STANDARD
TZOFFSETFROM:-0500
TZOFFSETTO:-0600
TZNAME:CST
DTSTART:20231105T070000
END:STANDARD
BEGIN:DAYLIGHT
TZOFFSETFROM:-0600
TZOFFSETTO:-0500
TZNAME:CDT
DTSTART:20240310T080000
END:DAYLIGHT
BEGIN:STANDARD
TZOFFSETFROM:-0500
TZOFFSETTO:-0600
TZNAME:CST
DTSTART:20241103T070000
END:STANDARD
BEGIN:DAYLIGHT
TZOFFSETFROM:-0600
TZOFFSETTO:-0500
TZNAME:CDT
DTSTART:20250309T080000
END:DAYLIGHT
BEGIN:STANDARD
TZOFFSETFROM:-0500
TZOFFSETTO:-0600
TZNAME:CST
DTSTART:20251102T070000
END:STANDARD
END:VTIMEZONE
BEGIN:VEVENT
DTSTART;TZID=America/Chicago:20241208T143000
DTEND;TZID=America/Chicago:20241208T163000
DTSTAMP:20260425T180535
CREATED:20240826T134832Z
LAST-MODIFIED:20241120T013207Z
UID:10000044-1733668200-1733675400@lakecreekgirlscouts.org
SUMMARY:LCSU Snowtacular & Cookie Rally
DESCRIPTION:Come and celebrate winter fun activities lead by Girl Scouts! Sign up coming November 1st. \n\n\n\nQuestions? Email Jona Morthole at lakecreekgirlscoutevents@gmail.com \n\n\n\nRegister here: https://docs.google.com/forms/d/e/1FAIpQLScWijzs-BELinOFBrzW8fXx1AMVih-KAwv08XEVPCXE-K91Mw/viewform
URL:https://lakecreekgirlscouts.org/event/lcsu-snowtacular/
LOCATION:Anderson Mill Limited District\, 11500 El Salido Pkwy\, Austin\, Texas\, 78750
CATEGORIES:Service Unit Events
ATTACH;FMTTYPE=image/jpeg:https://lakecreekgirlscouts.org/wp-content/uploads/2024/08/lcsu-snowtacular-cookie-rally.jpg
END:VEVENT
BEGIN:VEVENT
DTSTART;TZID=America/Chicago:20241217T190000
DTEND;TZID=America/Chicago:20241217T200000
DTSTAMP:20260425T180535
CREATED:20241119T154828Z
LAST-MODIFIED:20241119T154832Z
UID:10000055-1734462000-1734465600@lakecreekgirlscouts.org
SUMMARY:LCSU Monthly Volunteer Meeting
DESCRIPTION:All adult volunteers in the Lake Creek Service Unit are welcome to join us to plan and work. \n\n\n\nWe meet in the Disciple Building in room D203/204. The closest parking lot to the Disciple Building is the small Limited Mobility Lot on the corner of Swallow Dr. and Anderson Mill. From that lot\, you should enter and go up the stairs to find the room. \n\n\n\nCampus map: https://bethany-umc.org/campus-parking-map/ 
URL:https://lakecreekgirlscouts.org/event/lcsu-monthly-volunteer-meeting-6/
ATTACH;FMTTYPE=image/png:https://lakecreekgirlscouts.org/wp-content/uploads/2024/09/Volunteers-Wanted-1.png
END:VEVENT
END:VCALENDAR