BEGIN:VCALENDAR
VERSION:2.0
PRODID:-//Lake Creek Service Unit - ECPv6.15.20//NONSGML v1.0//EN
CALSCALE:GREGORIAN
METHOD:PUBLISH
X-ORIGINAL-URL:https://lakecreekgirlscouts.org
X-WR-CALDESC:Events for Lake Creek Service Unit
REFRESH-INTERVAL;VALUE=DURATION:PT1H
X-Robots-Tag:noindex
X-PUBLISHED-TTL:PT1H
BEGIN:VTIMEZONE
TZID:America/Chicago
BEGIN:DAYLIGHT
TZOFFSETFROM:-0600
TZOFFSETTO:-0500
TZNAME:CDT
DTSTART:20230312T080000
END:DAYLIGHT
BEGIN:STANDARD
TZOFFSETFROM:-0500
TZOFFSETTO:-0600
TZNAME:CST
DTSTART:20231105T070000
END:STANDARD
BEGIN:DAYLIGHT
TZOFFSETFROM:-0600
TZOFFSETTO:-0500
TZNAME:CDT
DTSTART:20240310T080000
END:DAYLIGHT
BEGIN:STANDARD
TZOFFSETFROM:-0500
TZOFFSETTO:-0600
TZNAME:CST
DTSTART:20241103T070000
END:STANDARD
BEGIN:DAYLIGHT
TZOFFSETFROM:-0600
TZOFFSETTO:-0500
TZNAME:CDT
DTSTART:20250309T080000
END:DAYLIGHT
BEGIN:STANDARD
TZOFFSETFROM:-0500
TZOFFSETTO:-0600
TZNAME:CST
DTSTART:20251102T070000
END:STANDARD
END:VTIMEZONE
BEGIN:VEVENT
DTSTART;TZID=America/Chicago:20241102T130000
DTEND;TZID=America/Chicago:20241102T173000
DTSTAMP:20260425T192447
CREATED:20240923T143042Z
LAST-MODIFIED:20241001T174501Z
UID:10000048-1730552400-1730568600@lakecreekgirlscouts.org
SUMMARY:Glazing Event for Empty Bowl Project
DESCRIPTION:Join other Lake Creek Service Unit Girl Scouts to support the Empty Bowl Project by glazing a bowl made by an Austin Area Potter. Finished bowls will be sold as part of the Empty Bowl Project fundraiser for Central Texas Food Bank and Meals on Wheels of Central Texas.  \n\n\n\nQuestions? Email Jona Morthole at lakecreekgirlscoutevents@gmail.com \n\n\n\nLearn more about the Austin Empty Bowl Project. \n\n\n\nFee is $5 per girl. The fees of Girl Scouts who are confirmed to have participated in the event will be refunded to the troop from the service unit. Be sure to sign-in via QR code at the event to claim your reimbursement!  \n\n\n\nRegister using the link below by 10/15/24.  \n\n\n\nLCSU Empty Bowl Project Sign Up
URL:https://lakecreekgirlscouts.org/event/glazing-event-for-empty-bowl-project/
LOCATION:Cordovan Art School and Pottery Parlor\, 8108 Mesa Drive\, Suite B-102\, Austin\, Texas\, 78759\, United States
CATEGORIES:Service Unit Events
ATTACH;FMTTYPE=application/pdf:https://lakecreekgirlscouts.org/wp-content/uploads/2024/09/Empty-Bowl-Project-2.pdf
END:VEVENT
BEGIN:VEVENT
DTSTART;TZID=America/Chicago:20241102T183000
DTEND;TZID=America/Chicago:20241102T213000
DTSTAMP:20260425T192447
CREATED:20241011T154500Z
LAST-MODIFIED:20241011T154505Z
UID:10000054-1730572200-1730583000@lakecreekgirlscouts.org
SUMMARY:Outdoor Movie Night
DESCRIPTION:Join Troop 40321 Cadettes for a night of popcorn\, fun\, and one nation under girls. \n\n\n\nWhen: Saturday\, 11/2/2024 from 6:30 pm to 9:30 pm \n\n\n\nCost: Free! Popcorn\, drinks\, and fun patches provided for registered girls. \n\n\n\n\n30-7:30 PM Q&A with local elected officials (TBA)\n\n\n\n30 – 9:30 PM Snacks and Movie time\n\n\n\n\n \n\n\n\nRegister Here By 10/25/2024  \n\n\n\nhttps://bit.ly/fall24movienight \n\n\n\nQuestions? Contact Sara Schulz & Sarah White\, troop leaders by emailing gsctxtroop40321@gmail.com
URL:https://lakecreekgirlscouts.org/event/outdoor-movie-night/
CATEGORIES:Service Unit Events
ATTACH;FMTTYPE=image/png:https://lakecreekgirlscouts.org/wp-content/uploads/2024/10/Register-Here-By-10252024-httpsforms.gleY9671VczrMZibbcm8.png
END:VEVENT
BEGIN:VEVENT
DTSTART;TZID=America/Chicago:20241110T130000
DTEND;TZID=America/Chicago:20241110T150000
DTSTAMP:20260425T192447
CREATED:20240826T135502Z
LAST-MODIFIED:20241001T174101Z
UID:10000046-1731243600-1731250800@lakecreekgirlscouts.org
SUMMARY:LCSU Investiture and Rededication 2024
DESCRIPTION:Welcoming ceremony for Girl Scouts returning and those just starting.  \n\n\n\nSign up link: https://docs.google.com/forms/d/e/1FAIpQLScOYvkR9ey6RCOD3raOnAauGtWSbX0wuZCuyE66aarE9P0avg/viewform \n\n\n\nQuestions? Email Jona Morthole at lakecreekgirlscoutevents@gmail.com
URL:https://lakecreekgirlscouts.org/event/lcsu-investiture-and-rededication-2024/
LOCATION:Anderson Mill Terrace\, 1505 Anderson Mill Rd\, Austin\, Texas\, 78750
CATEGORIES:Service Unit Events
ATTACH;FMTTYPE=application/pdf:https://lakecreekgirlscouts.org/wp-content/uploads/2024/08/Investiture-pdf.pdf
END:VEVENT
BEGIN:VEVENT
DTSTART;TZID=America/Chicago:20241119T190000
DTEND;TZID=America/Chicago:20241119T200000
DTSTAMP:20260425T192447
CREATED:20240924T182054Z
LAST-MODIFIED:20240924T182058Z
UID:10000052-1732042800-1732046400@lakecreekgirlscouts.org
SUMMARY:LCSU Monthly Volunteer Meeting
DESCRIPTION:All adult volunteers in the Lake Creek Service Unit are welcome to join us to plan and work. \n\n\n\nWe meet in the Disciple Building in room D203/204. The closest parking lot to the Disciple Building is the small Limited Mobility Lot on the corner of Swallow Dr. and Anderson Mill. From that lot\, you should enter and go up the stairs to find the room. \n\n\n\nCampus map: https://bethany-umc.org/campus-parking-map/ 
URL:https://lakecreekgirlscouts.org/event/lcsu-monthly-volunteer-meeting-5/
ATTACH;FMTTYPE=image/png:https://lakecreekgirlscouts.org/wp-content/uploads/2024/09/Volunteers-Wanted-1.png
END:VEVENT
END:VCALENDAR