BEGIN:VCALENDAR
VERSION:2.0
PRODID:-//Lake Creek Service Unit - ECPv6.15.20//NONSGML v1.0//EN
CALSCALE:GREGORIAN
METHOD:PUBLISH
X-WR-CALNAME:Lake Creek Service Unit
X-ORIGINAL-URL:https://lakecreekgirlscouts.org
X-WR-CALDESC:Events for Lake Creek Service Unit
REFRESH-INTERVAL;VALUE=DURATION:PT1H
X-Robots-Tag:noindex
X-PUBLISHED-TTL:PT1H
BEGIN:VTIMEZONE
TZID:America/Chicago
BEGIN:DAYLIGHT
TZOFFSETFROM:-0600
TZOFFSETTO:-0500
TZNAME:CDT
DTSTART:20220313T080000
END:DAYLIGHT
BEGIN:STANDARD
TZOFFSETFROM:-0500
TZOFFSETTO:-0600
TZNAME:CST
DTSTART:20221106T070000
END:STANDARD
BEGIN:DAYLIGHT
TZOFFSETFROM:-0600
TZOFFSETTO:-0500
TZNAME:CDT
DTSTART:20230312T080000
END:DAYLIGHT
BEGIN:STANDARD
TZOFFSETFROM:-0500
TZOFFSETTO:-0600
TZNAME:CST
DTSTART:20231105T070000
END:STANDARD
BEGIN:DAYLIGHT
TZOFFSETFROM:-0600
TZOFFSETTO:-0500
TZNAME:CDT
DTSTART:20240310T080000
END:DAYLIGHT
BEGIN:STANDARD
TZOFFSETFROM:-0500
TZOFFSETTO:-0600
TZNAME:CST
DTSTART:20241103T070000
END:STANDARD
BEGIN:DAYLIGHT
TZOFFSETFROM:-0600
TZOFFSETTO:-0500
TZNAME:CDT
DTSTART:20250309T080000
END:DAYLIGHT
BEGIN:STANDARD
TZOFFSETFROM:-0500
TZOFFSETTO:-0600
TZNAME:CST
DTSTART:20251102T070000
END:STANDARD
END:VTIMEZONE
BEGIN:VEVENT
DTSTART;TZID=America/Chicago:20240521T190000
DTEND;TZID=America/Chicago:20240521T200000
DTSTAMP:20260425T062212
CREATED:20230824T021016Z
LAST-MODIFIED:20240408T153652Z
UID:10000011-1716318000-1716321600@lakecreekgirlscouts.org
SUMMARY:Lake Creek Service Unit Monthly Volunteer Meeting
DESCRIPTION:All adult volunteers in the Lake Creek Service Unit are welcome to join us to plan and work.We meet in the Disciple Building in room D203/204. The closest parking lot to the Disciple Building is the small Limited Mobility Lot on the corner of Swallow Dr. and Anderson Mill. From that lot you should enter and go up the stairs to find the room.Here is a link to the campus map: https://bethany-umc.org/campus-parking-map/
URL:https://lakecreekgirlscouts.org/event/lake-creek-service-unit-monthly-volunteer-meeting-10/
LOCATION:Bethany United Methodist Church\, 10010 Anderson Mill Rd\, Austin\, Texas\, 78750\, United States
CATEGORIES:Meeting
END:VEVENT
BEGIN:VEVENT
DTSTART;TZID=America/Chicago:20240430T190000
DTEND;TZID=America/Chicago:20240430T200000
DTSTAMP:20260425T062212
CREATED:20230824T021016Z
LAST-MODIFIED:20230824T021016Z
UID:10000010-1714503600-1714507200@lakecreekgirlscouts.org
SUMMARY:Lake Creek Service Unit Monthly Volunteer Meeting
DESCRIPTION:All adult volunteers in the Lake Creek Service Unit are welcome to join us to plan and work.\n We meet in the Disciple Building in room D203/204. The closest parking lot to the Disciple Building is the small Limited Mobility Lot on the corner of Swallow Dr. and Anderson Mill. From that lot you should enter and go up the stairs to find the room.\n Here is a link to the campus map: https://bethany-umc.org/campus-parking-map/
URL:https://lakecreekgirlscouts.org/event/lake-creek-service-unit-monthly-volunteer-meeting-9/
LOCATION:Bethany United Methodist Church\, 10010 Anderson Mill Rd\, Austin\, Texas\, 78750\, United States
CATEGORIES:Meeting
END:VEVENT
BEGIN:VEVENT
DTSTART;TZID=America/Chicago:20240326T190000
DTEND;TZID=America/Chicago:20240326T200000
DTSTAMP:20260425T062212
CREATED:20230824T021015Z
LAST-MODIFIED:20240109T155804Z
UID:10000009-1711479600-1711483200@lakecreekgirlscouts.org
SUMMARY:Lake Creek Service Unit Monthly Volunteer Meeting
DESCRIPTION:All adult volunteers in the Lake Creek Service Unit are welcome to join us to plan and work.\n We meet in the Disciple Building in room D203/204. The closest parking lot to the Disciple Building is the small Limited Mobility Lot on the corner of Swallow Dr. and Anderson Mill. From that lot you should enter and go up the stairs to find the room.\n Here is a link to the campus map: https://bethany-umc.org/campus-parking-map/
URL:https://lakecreekgirlscouts.org/event/lake-creek-service-unit-monthly-volunteer-meeting-8/
LOCATION:Bethany United Methodist Church\, 10010 Anderson Mill Rd\, Austin\, Texas\, 78750\, United States
CATEGORIES:Meeting
END:VEVENT
BEGIN:VEVENT
DTSTART;TZID=America/Chicago:20240206T190000
DTEND;TZID=America/Chicago:20240206T200000
DTSTAMP:20260425T062212
CREATED:20230824T021015Z
LAST-MODIFIED:20231129T013204Z
UID:10000008-1707246000-1707249600@lakecreekgirlscouts.org
SUMMARY:Lake Creek Service Unit Monthly Volunteer Meeting
DESCRIPTION:All adult volunteers in the Lake Creek Service Unit are welcome to join us to plan and work.\n We meet in the Disciple Building in room D203/204. The closest parking lot to the Disciple Building is the small Limited Mobility Lot on the corner of Swallow Dr. and Anderson Mill. From that lot you should enter and go up the stairs to find the room.\n Here is a link to the campus map: https://bethany-umc.org/campus-parking-map/
URL:https://lakecreekgirlscouts.org/event/lake-creek-service-unit-monthly-volunteer-meeting-7/
LOCATION:Bethany United Methodist Church\, 10010 Anderson Mill Rd\, Austin\, Texas\, 78750\, United States
CATEGORIES:Meeting
END:VEVENT
BEGIN:VEVENT
DTSTART;TZID=America/Chicago:20231128T190000
DTEND;TZID=America/Chicago:20231128T200000
DTSTAMP:20260425T062212
CREATED:20230824T021011Z
LAST-MODIFIED:20230824T021011Z
UID:10000005-1701198000-1701201600@lakecreekgirlscouts.org
SUMMARY:Lake Creek Service Unit Monthly Volunteer Meeting
DESCRIPTION:All adult volunteers in the Lake Creek Service Unit are welcome to join us to plan and work.\n We meet in the Disciple Building in room D203/204. The closest parking lot to the Disciple Building is the small Limited Mobility Lot on the corner of Swallow Dr. and Anderson Mill. From that lot you should enter and go up the stairs to find the room.\n Here is a link to the campus map: https://bethany-umc.org/campus-parking-map/
URL:https://lakecreekgirlscouts.org/event/lake-creek-service-unit-monthly-volunteer-meeting-4/
LOCATION:Bethany United Methodist Church\, 10010 Anderson Mill Rd\, Austin\, Texas\, 78750\, United States
CATEGORIES:Meeting
END:VEVENT
BEGIN:VEVENT
DTSTART;TZID=America/Chicago:20231024T190000
DTEND;TZID=America/Chicago:20231024T200000
DTSTAMP:20260425T062212
CREATED:20230824T021010Z
LAST-MODIFIED:20230824T021010Z
UID:10000004-1698174000-1698177600@lakecreekgirlscouts.org
SUMMARY:Lake Creek Service Unit Monthly Volunteer Meeting
DESCRIPTION:All adult volunteers in the Lake Creek Service Unit are welcome to join us to plan and work.\n We meet in the Disciple Building in room D203/204. The closest parking lot to the Disciple Building is the small Limited Mobility Lot on the corner of Swallow Dr. and Anderson Mill. From that lot you should enter and go up the stairs to find the room.\n Here is a link to the campus map: https://bethany-umc.org/campus-parking-map/
URL:https://lakecreekgirlscouts.org/event/lake-creek-service-unit-monthly-volunteer-meeting-3/
LOCATION:Bethany United Methodist Church\, 10010 Anderson Mill Rd\, Austin\, Texas\, 78750\, United States
CATEGORIES:Meeting
END:VEVENT
BEGIN:VEVENT
DTSTART;TZID=America/Chicago:20230926T200000
DTEND;TZID=America/Chicago:20230926T203000
DTSTAMP:20260425T062212
CREATED:20230922T175415Z
LAST-MODIFIED:20230922T181714Z
UID:10000016-1695758400-1695760200@lakecreekgirlscouts.org
SUMMARY:Jumpstart Training for New Leaders
DESCRIPTION:Jumpstart Training Lake Creek Service Unit\n\n\n\nNew leaders are welcome to attend a Jumpstart Training immediately following our Monthly Volunteer Meeting. The session is expected to last 30 minutes hosted by Melissa McDowell. \n\n\n\nWe meet in the Disciple Building in room D203/204. The closest parking lot to the Disciple Building is the small Limited Mobility Lot on the corner of Swallow Dr. and Anderson Mill. From that lot you should enter and go up the stairs to find the room.Here is a link to the campus map: https://bethany-umc.org/campus-parking-map/ 
URL:https://lakecreekgirlscouts.org/event/jumpstart-training-for-new-leaders/
LOCATION:Bethany United Methodist Church\, 10010 Anderson Mill Rd\, Austin\, Texas\, 78750\, United States
CATEGORIES:Meeting
ATTACH;FMTTYPE=image/png:https://lakecreekgirlscouts.org/wp-content/uploads/2023/09/LCSU-Jumpstart-Training.png
END:VEVENT
BEGIN:VEVENT
DTSTART;TZID=America/Chicago:20230926T190000
DTEND;TZID=America/Chicago:20230926T200000
DTSTAMP:20260425T062212
CREATED:20230815T162815Z
LAST-MODIFIED:20230824T021008Z
UID:10000003-1695754800-1695758400@lakecreekgirlscouts.org
SUMMARY:Lake Creek Service Unit Monthly Volunteer Meeting
DESCRIPTION:All adult volunteers in the Lake Creek Service Unit are welcome to join us to plan and work.\n We meet in the Disciple Building in room D203/204. The closest parking lot to the Disciple Building is the small Limited Mobility Lot on the corner of Swallow Dr. and Anderson Mill. From that lot you should enter and go up the stairs to find the room.\n Here is a link to the campus map: https://bethany-umc.org/campus-parking-map/
URL:https://lakecreekgirlscouts.org/event/lake-creek-service-unit-monthly-volunteer-meeting-2/
LOCATION:Bethany United Methodist Church\, 10010 Anderson Mill Rd\, Austin\, Texas\, 78750\, United States
CATEGORIES:Meeting
END:VEVENT
BEGIN:VEVENT
DTSTART;TZID=America/Chicago:20230829T190000
DTEND;TZID=America/Chicago:20230829T200000
DTSTAMP:20260425T062212
CREATED:20230815T161408Z
LAST-MODIFIED:20230822T135709Z
UID:10000002-1693335600-1693339200@lakecreekgirlscouts.org
SUMMARY:Lake Creek Service Unit Monthly Volunteer Meeting
DESCRIPTION:All adult volunteers in the Lake Creek Service Unit are welcome to join us to plan and work. \n\n\n\nWe meet in the Disciple Building in room D203/204. The closest parking lot to the Disciple Building is the small Limited Mobility Lot on the corner of Swallow Dr. and Anderson Mill. From that lot you should enter and go up the stairs to find the room.Here is a link to the campus map: https://bethany-umc.org/campus-parking-map/ 
URL:https://lakecreekgirlscouts.org/event/lake-creek-service-unit-monthly-volunteer-meeting/
LOCATION:Bethany United Methodist Church\, 10010 Anderson Mill Rd\, Austin\, Texas\, 78750\, United States
CATEGORIES:Meeting
END:VEVENT
END:VCALENDAR