BEGIN:VCALENDAR
VERSION:2.0
PRODID:-//Lake Creek Service Unit - ECPv6.15.20//NONSGML v1.0//EN
CALSCALE:GREGORIAN
METHOD:PUBLISH
X-WR-CALNAME:Lake Creek Service Unit
X-ORIGINAL-URL:https://lakecreekgirlscouts.org
X-WR-CALDESC:Events for Lake Creek Service Unit
REFRESH-INTERVAL;VALUE=DURATION:PT1H
X-Robots-Tag:noindex
X-PUBLISHED-TTL:PT1H
BEGIN:VTIMEZONE
TZID:America/Chicago
BEGIN:DAYLIGHT
TZOFFSETFROM:-0600
TZOFFSETTO:-0500
TZNAME:CDT
DTSTART:20220313T080000
END:DAYLIGHT
BEGIN:STANDARD
TZOFFSETFROM:-0500
TZOFFSETTO:-0600
TZNAME:CST
DTSTART:20221106T070000
END:STANDARD
BEGIN:DAYLIGHT
TZOFFSETFROM:-0600
TZOFFSETTO:-0500
TZNAME:CDT
DTSTART:20230312T080000
END:DAYLIGHT
BEGIN:STANDARD
TZOFFSETFROM:-0500
TZOFFSETTO:-0600
TZNAME:CST
DTSTART:20231105T070000
END:STANDARD
BEGIN:DAYLIGHT
TZOFFSETFROM:-0600
TZOFFSETTO:-0500
TZNAME:CDT
DTSTART:20240310T080000
END:DAYLIGHT
BEGIN:STANDARD
TZOFFSETFROM:-0500
TZOFFSETTO:-0600
TZNAME:CST
DTSTART:20241103T070000
END:STANDARD
BEGIN:DAYLIGHT
TZOFFSETFROM:-0600
TZOFFSETTO:-0500
TZNAME:CDT
DTSTART:20250309T080000
END:DAYLIGHT
BEGIN:STANDARD
TZOFFSETFROM:-0500
TZOFFSETTO:-0600
TZNAME:CST
DTSTART:20251102T070000
END:STANDARD
BEGIN:DAYLIGHT
TZOFFSETFROM:-0600
TZOFFSETTO:-0500
TZNAME:CDT
DTSTART:20260308T080000
END:DAYLIGHT
BEGIN:STANDARD
TZOFFSETFROM:-0500
TZOFFSETTO:-0600
TZNAME:CST
DTSTART:20261101T070000
END:STANDARD
BEGIN:DAYLIGHT
TZOFFSETFROM:-0600
TZOFFSETTO:-0500
TZNAME:CDT
DTSTART:20270314T080000
END:DAYLIGHT
BEGIN:STANDARD
TZOFFSETFROM:-0500
TZOFFSETTO:-0600
TZNAME:CST
DTSTART:20271107T070000
END:STANDARD
END:VTIMEZONE
BEGIN:VEVENT
DTSTART;TZID=America/Chicago:20260313T000000
DTEND;TZID=America/Chicago:20260313T235959
DTSTAMP:20260425T062144
CREATED:20250806T014955Z
LAST-MODIFIED:20250806T014958Z
UID:10000086-1773360000-1773446399@lakecreekgirlscouts.org
SUMMARY:Cookies 2026:  ACH Debit #3
DESCRIPTION:
URL:https://lakecreekgirlscouts.org/event/cookies-2026-ach-debit-3/
CATEGORIES:Cookie Season
ATTACH;FMTTYPE=image/jpeg:https://lakecreekgirlscouts.org/wp-content/uploads/2025/08/54679269906_fdf172f95c_w.jpg
END:VEVENT
BEGIN:VEVENT
DTSTART;TZID=America/Chicago:20260213T000000
DTEND;TZID=America/Chicago:20260213T235959
DTSTAMP:20260425T062144
CREATED:20250806T014643Z
LAST-MODIFIED:20250806T014648Z
UID:10000085-1770940800-1771027199@lakecreekgirlscouts.org
SUMMARY:Cookies 2026:  ACH Debit #2
DESCRIPTION:
URL:https://lakecreekgirlscouts.org/event/cookies-2026-ach-debit-2/
CATEGORIES:Cookie Season
ATTACH;FMTTYPE=image/jpeg:https://lakecreekgirlscouts.org/wp-content/uploads/2025/08/54679269906_fdf172f95c_w.jpg
END:VEVENT
BEGIN:VEVENT
DTSTART;TZID=America/Chicago:20260130T000000
DTEND;TZID=America/Chicago:20260130T235959
DTSTAMP:20260425T062144
CREATED:20250806T014602Z
LAST-MODIFIED:20250806T014605Z
UID:10000084-1769731200-1769817599@lakecreekgirlscouts.org
SUMMARY:Cookies 2026:  ACH Debit #1
DESCRIPTION:
URL:https://lakecreekgirlscouts.org/event/cookies-2026-ach-debit-1/
CATEGORIES:Cookie Season
ATTACH;FMTTYPE=image/jpeg:https://lakecreekgirlscouts.org/wp-content/uploads/2025/08/54679269906_fdf172f95c_w.jpg
END:VEVENT
BEGIN:VEVENT
DTSTART;TZID=America/Chicago:20260114T000000
DTEND;TZID=America/Chicago:20260301T235959
DTSTAMP:20260425T062144
CREATED:20250806T014505Z
LAST-MODIFIED:20250806T014508Z
UID:10000083-1768348800-1772409599@lakecreekgirlscouts.org
SUMMARY:Cookies 2026: Cookie Sale
DESCRIPTION:
URL:https://lakecreekgirlscouts.org/event/cookies-2026-cookie-sale/
CATEGORIES:Cookie Season
ATTACH;FMTTYPE=image/jpeg:https://lakecreekgirlscouts.org/wp-content/uploads/2025/08/54679269906_fdf172f95c_w.jpg
END:VEVENT
BEGIN:VEVENT
DTSTART;TZID=America/Chicago:20260110T000000
DTEND;TZID=America/Chicago:20260110T235959
DTSTAMP:20260425T062144
CREATED:20250806T014352Z
LAST-MODIFIED:20250806T014355Z
UID:10000082-1768003200-1768089599@lakecreekgirlscouts.org
SUMMARY:Cookies 2026: Mega Drop
DESCRIPTION:
URL:https://lakecreekgirlscouts.org/event/cookies-2026-mega-drop/
CATEGORIES:Cookie Season
ATTACH;FMTTYPE=image/jpeg:https://lakecreekgirlscouts.org/wp-content/uploads/2025/08/54679269906_fdf172f95c_w.jpg
END:VEVENT
BEGIN:VEVENT
DTSTART;TZID=America/Chicago:20260104T140000
DTEND;TZID=America/Chicago:20260104T160000
DTSTAMP:20260425T062144
CREATED:20251210T022405Z
LAST-MODIFIED:20260102T170827Z
UID:10000089-1767535200-1767542400@lakecreekgirlscouts.org
SUMMARY:LCSU Cookie Rally 2026
DESCRIPTION:Join Lake Creek Service Unit Cookie Captains and adult volunteers at the Rattan Creek Community Center (7611 Elkhorn Mountain Trail\, Austin\, 78729) on Sunday\, 1/4/2026\, from 2 pm to 4 pm for a Cookie Rally!  \n\n\n\nThis fun event is for Daisies and Brownies to play games and taste cookies in preparation for cookie sales.  \n\n\n\nGirl Scouts do not have to be selling cookies to participate. This is not a drop off event; Girl Scouts should be accompanied by their troop leader or caregiver at all times.  
URL:https://lakecreekgirlscouts.org/event/lcsu-cookie-rally-2026/
CATEGORIES:Cookie Season
ATTACH;FMTTYPE=image/jpeg:https://lakecreekgirlscouts.org/wp-content/uploads/2025/12/54780214404_5a4bde50df_q.jpg
END:VEVENT
BEGIN:VEVENT
DTSTART;TZID=America/Chicago:20251205T000000
DTEND;TZID=America/Chicago:20251205T235959
DTSTAMP:20260425T062144
CREATED:20250806T014232Z
LAST-MODIFIED:20250806T014236Z
UID:10000081-1764892800-1764979199@lakecreekgirlscouts.org
SUMMARY:Cookies 2026: Inital Orders Due in Smart Cookie
DESCRIPTION:
URL:https://lakecreekgirlscouts.org/event/cookies-2026-inital-orders-due-in-smart-cookie/
CATEGORIES:Cookie Season
ATTACH;FMTTYPE=image/jpeg:https://lakecreekgirlscouts.org/wp-content/uploads/2025/08/54679269906_fdf172f95c_w.jpg
END:VEVENT
BEGIN:VEVENT
DTSTART;TZID=America/Chicago:20251014T080000
DTEND;TZID=America/Chicago:20251014T210000
DTSTAMP:20260425T062144
CREATED:20250806T013820Z
LAST-MODIFIED:20250930T173014Z
UID:10000077-1760428800-1760475600@lakecreekgirlscouts.org
SUMMARY:Cookies 2026: Gluten-Free Cookie Orders Due
DESCRIPTION:Complete the Gluten-Free Cookie order form: Gluten-Free Cookie Order Form \n\n\n\n \n\n\n\nQuestions? Email cookies@lakecreekgirlscouts.org
URL:https://lakecreekgirlscouts.org/event/gluten-free-cookie-orders-due-2/
CATEGORIES:Cookie Season
ATTACH;FMTTYPE=image/jpeg:https://lakecreekgirlscouts.org/wp-content/uploads/2025/08/54679269906_fdf172f95c_w.jpg
END:VEVENT
BEGIN:VEVENT
DTSTART;TZID=America/Chicago:20241016T080000
DTEND;TZID=America/Chicago:20241016T210000
DTSTAMP:20260425T062144
CREATED:20241011T144243Z
LAST-MODIFIED:20241011T144247Z
UID:10000053-1729065600-1729112400@lakecreekgirlscouts.org
SUMMARY:Gluten-Free Cookie Orders Due
DESCRIPTION:Gluten-free cookie case orders are due to cookies@lakecreekgirlscouts.org. Email should contain your troop number and how many cases you want to order.
URL:https://lakecreekgirlscouts.org/event/gluten-free-cookie-orders-due/
CATEGORIES:Cookie Season
ATTACH;FMTTYPE=image/jpeg:https://lakecreekgirlscouts.org/wp-content/uploads/2024/10/cookietimeimage.jpg
END:VEVENT
BEGIN:VEVENT
DTSTART;TZID=America/Chicago:20231203T120000
DTEND;TZID=America/Chicago:20231203T140000
DTSTAMP:20260425T062144
CREATED:20231129T013455Z
LAST-MODIFIED:20231129T231408Z
UID:10000035-1701604800-1701612000@lakecreekgirlscouts.org
SUMMARY:Cookie Rally
DESCRIPTION:Cookie captains host new cookie sellers as they prepare for their first cookie season. RSVP using this Google Form by November 15th.
URL:https://lakecreekgirlscouts.org/event/cookie-rally/
LOCATION:Anderson Terrace\, 11505 ANDERSON MILL A\, Austin\, Texas\, 78750\, United States
CATEGORIES:Cookie Season
ATTACH;FMTTYPE=image/png:https://lakecreekgirlscouts.org/wp-content/uploads/2023/10/cookies-Rally.png
END:VEVENT
BEGIN:VEVENT
DTSTART;TZID=America/Chicago:20231201T000000
DTEND;TZID=America/Chicago:20231201T000000
DTSTAMP:20260425T062144
CREATED:20231025T134548Z
LAST-MODIFIED:20231025T134548Z
UID:10000033-1701388800-1701388800@lakecreekgirlscouts.org
SUMMARY:Cookie Captain Commitment Form Due
DESCRIPTION:
URL:https://lakecreekgirlscouts.org/event/cookie-captain-commitment-form-due/
CATEGORIES:Cookie Season
END:VEVENT
BEGIN:VEVENT
DTSTART;TZID=America/Chicago:20231110T000000
DTEND;TZID=America/Chicago:20231110T000000
DTSTAMP:20260425T062144
CREATED:20231025T134547Z
LAST-MODIFIED:20231025T134547Z
UID:10000032-1699574400-1699574400@lakecreekgirlscouts.org
SUMMARY:Cookie Caregiver Permission forms Due
DESCRIPTION:Deadline to submit caregiver permission forms for cookie sellers
URL:https://lakecreekgirlscouts.org/event/cookie-caregiver-permission-forms-due/
CATEGORIES:Cookie Season
END:VEVENT
BEGIN:VEVENT
DTSTART;TZID=America/Chicago:20231109T203000
DTEND;TZID=America/Chicago:20231109T213000
DTSTAMP:20260425T062144
CREATED:20231025T003446Z
LAST-MODIFIED:20231104T191247Z
UID:10000025-1699561800-1699565400@lakecreekgirlscouts.org
SUMMARY:Cookie Captain Training
DESCRIPTION:Join the Cookie Captain leaders to learn about what being a Cookie Captain entails and ask questions before committing to volunteering for the Cookie Captain role. Register online to receive the virtual link: https://forms.gle/D62wH1Ts9qDstQWW7
URL:https://lakecreekgirlscouts.org/event/cookie-captain-training/
CATEGORIES:Cookie Season
ATTACH;FMTTYPE=application/pdf:https://lakecreekgirlscouts.org/wp-content/uploads/2023/10/cookies-Captains.pdf
END:VEVENT
BEGIN:VEVENT
DTSTART;TZID=America/Chicago:20231106T000000
DTEND;TZID=America/Chicago:20231106T000000
DTSTAMP:20260425T062144
CREATED:20231025T134547Z
LAST-MODIFIED:20231025T134547Z
UID:10000031-1699228800-1699228800@lakecreekgirlscouts.org
SUMMARY:Troop Cookie Coordinator Agreement Due
DESCRIPTION:Deadline to submit cookie coordinator form
URL:https://lakecreekgirlscouts.org/event/troop-cookie-coordinator-agreement-due/
CATEGORIES:Cookie Season
END:VEVENT
BEGIN:VEVENT
DTSTART;TZID=America/Chicago:20231104T120000
DTEND;TZID=America/Chicago:20231104T140000
DTSTAMP:20260425T062144
CREATED:20231025T134543Z
LAST-MODIFIED:20231026T160148Z
UID:10000030-1699099200-1699106400@lakecreekgirlscouts.org
SUMMARY:Cookie Training for Leaders -- In Person
DESCRIPTION:Please choose a session that works best for you. If you have never done this before\, I suggest you attend the in-person training.\n\n\n\nThere are some significant changes to how online ordering will work this year. All TCCs will need to attend training. You will only need to attend a single training session.\n\n\n\n[ACTION ITEM] Go to https://lu.ma/lcgsctx_cookies and choose to register for the Virtual or In-Person training. There are two different virtual sessions on the same night. You only need to register and attend one of them.\n\n\n\n\n \n\n\n\nQuestions? Contact Randy Hoskins\, Lake Creek Service Unit Cookie Manager\, by emailing cookies@lakecreekgirlscouts.org
URL:https://lakecreekgirlscouts.org/event/cookie-training-for-leaders-in-person/
CATEGORIES:Cookie Season
ATTACH;FMTTYPE=image/jpeg:https://lakecreekgirlscouts.org/wp-content/uploads/2023/10/Grey-and-Purple-Modern-Elegant-Welcome-November-Facebook-Cover.jpg
END:VEVENT
BEGIN:VEVENT
DTSTART;TZID=America/Chicago:20231102T200000
DTEND;TZID=America/Chicago:20231102T220000
DTSTAMP:20260425T062144
CREATED:20231025T134543Z
LAST-MODIFIED:20231026T160450Z
UID:10000029-1698955200-1698962400@lakecreekgirlscouts.org
SUMMARY:Cookie Training for Leaders -- Virtual Session 2
DESCRIPTION:Please choose a session that works best for you. If you have never done this before\, I suggest you attend the in-person training.\n\n\n\nThere are some significant changes to how online ordering will work this year. All TCCs will need to attend training. You will only need to attend a single training session.\n\n\n\n[ACTION ITEM] Go to https://lu.ma/lcgsctx_cookies and choose to register for the Virtual or In-Person training. There are two different virtual sessions on the same night. You only need to register and attend one of them.\n\n\n\n\nQuestions? Contact Randy Hoskins\, Lake Creek Service Unit Cookie Manager\, by emailing cookies@lakecreekgirlscouts.org
URL:https://lakecreekgirlscouts.org/event/cookie-training-for-leaders-virtual-session-2/
CATEGORIES:Cookie Season
ATTACH;FMTTYPE=image/jpeg:https://lakecreekgirlscouts.org/wp-content/uploads/2023/10/Grey-and-Purple-Modern-Elegant-Welcome-November-Facebook-Cover.jpg
END:VEVENT
BEGIN:VEVENT
DTSTART;TZID=America/Chicago:20231102T170000
DTEND;TZID=America/Chicago:20231102T190000
DTSTAMP:20260425T062144
CREATED:20231025T134542Z
LAST-MODIFIED:20231026T160357Z
UID:10000028-1698944400-1698951600@lakecreekgirlscouts.org
SUMMARY:Cookie Training for Leaders -- Virtual Session 1
DESCRIPTION:Please choose a session that works best for you. If you have never done this before\, I suggest you attend the in-person training.\n\n\n\nThere are some significant changes to how online ordering will work this year. All TCCs will need to attend training. You will only need to attend a single training session.\n\n\n\n[ACTION ITEM] Go to https://lu.ma/lcgsctx_cookies and choose to register for the Virtual or In-Person training. There are two different virtual sessions on the same night. You only need to register and attend one of them.\n\n\n\n\nQuestions? Contact Randy Hoskins\, Lake Creek Service Unit Cookie Manager\, by emailing cookies@lakecreekgirlscouts.org
URL:https://lakecreekgirlscouts.org/event/cookie-training-for-leaders-virtual-session-1/
CATEGORIES:Cookie Season
ATTACH;FMTTYPE=image/jpeg:https://lakecreekgirlscouts.org/wp-content/uploads/2023/10/Grey-and-Purple-Modern-Elegant-Welcome-November-Facebook-Cover.jpg
END:VEVENT
BEGIN:VEVENT
DTSTART;TZID=America/Chicago:20231013T000000
DTEND;TZID=America/Chicago:20231013T000000
DTSTAMP:20260425T062144
CREATED:20230922T192929Z
LAST-MODIFIED:20230922T192929Z
UID:10000024-1697155200-1697155200@lakecreekgirlscouts.org
SUMMARY:Cookies: Gluten Free Cookie Orders Due
DESCRIPTION:
URL:https://lakecreekgirlscouts.org/event/cookies-gluten-free-cookie-orders-due/
CATEGORIES:Cookie Season
END:VEVENT
END:VCALENDAR